BEGIN:VCALENDAR
VERSION:2.0
PRODID:-//Tukios.com/
BEGIN:VEVENT
UID:2d03a54d-5e72-4b47-86a1-866b3cf671dd@www.albrittonfuneral.com
DTSTAMP:20260421T170048Z
DTSTART:20260425T140000Z
DTEND:20260425T150000Z
SUMMARY:Graveside Memorial Service
DESCRIPTION:
URL:https://www.albrittonfuneral.com/obituaries/irene-darlington
LOCATION: 1754 U.S. 82  Tifton GA 31794
GEO:31.4342875;-83.4486818
END:VEVENT
END:VCALENDAR