BEGIN:VCALENDAR
VERSION:2.0
PRODID:-//Tukios.com/
BEGIN:VEVENT
UID:f8ccfe4e-e917-4318-9637-df280524bef3@www.albrittonfuneral.com
DTSTAMP:20260423T233902Z
DTSTART:20260426T180000Z
DTEND:20260426T193000Z
SUMMARY:Visitation
DESCRIPTION:
URL:https://www.albrittonfuneral.com/obituaries/james-jimmy-roberts
LOCATION: 1020 Tift Ave N.  Tifton GA 31794
GEO:31.4624187;-83.5045628
END:VEVENT
END:VCALENDAR